BEGIN:VCALENDAR
VERSION:2.0
PRODID:-//Eventin//Event Calendar//EN
CALSCALE:GREGORIAN
METHOD:PUBLISH
BEGIN:VEVENT
UID:7a06a34500e5a330f263e9b4687c9ffa@bezirkmeilen.grunliberale.ch
SUMMARY:Mitgliedsversammlung der GLP Ortspartei Meilen
DESCRIPTION:Besprechung der Traktanden der Budget-Gemeindeversammlung vom 7
 . Dezember 2026 und Fassung der Parolen. \nWir freuen uns über die Teilna
 hme durch Interessenten!\nAnmeldung über den Kontakt-Button oben. 
LOCATION:wird noch bekannt gegeben
DTSTAMP:20260424T060936Z
DTSTART:20261102T180000Z
DTEND:20261102T193000Z
END:VEVENT
END:VCALENDAR
