BEGIN:VCALENDAR
VERSION:2.0
PRODID:-//Eventin//Event Calendar//EN
CALSCALE:GREGORIAN
METHOD:PUBLISH
BEGIN:VEVENT
UID:18a854d7962c668d3b2d0ae77ff166b3@bezirkmeilen.grunliberale.ch
SUMMARY:Mitgliedsversammlung der GLP Ortspartei Meilen
DESCRIPTION:Besprechung der Traktanden der Gemeindeversammlung vom 7. Septe
 mber 2026 und Fassung der Parolen. \nWir freuen uns über die Teilnahme du
 rch Interessenten!\nAnmeldung über den Kontakt-Button oben. 
LOCATION:wird noch bekannt gegeben
DTSTAMP:20260424T061721Z
DTSTART:20260811T170000Z
DTEND:20260811T183000Z
END:VEVENT
END:VCALENDAR
