BEGIN:VCALENDAR
VERSION:2.0
PRODID:-//Eventin//Event Calendar//EN
CALSCALE:GREGORIAN
METHOD:PUBLISH
BEGIN:VEVENT
UID:bab151f994c6418394cf41663d231e98@bezirkmeilen.grunliberale.ch
SUMMARY:Mitgliedsversammlung der GLP Ortspartei Meilen
DESCRIPTION:Besprechung der Traktanden der Gemeindeversammlung vom 15. Juni
  2026 und Fassung der Parolen. \nWir freuen uns über die Teilnahme durch 
 Interessenten!\nAnmeldung über den Kontakt-Button oben. 
LOCATION:wird noch bekannt gegeben
DTSTAMP:20260424T074012Z
DTSTART:20260506T170000Z
DTEND:20260506T183000Z
END:VEVENT
END:VCALENDAR
